BEGIN:VCALENDAR
VERSION:2.0
PRODID:-// - ECPv6.15.16//NONSGML v1.0//EN
CALSCALE:GREGORIAN
METHOD:PUBLISH
X-ORIGINAL-URL:https://kreativakristaller.se
X-WR-CALDESC:Händelser för 
REFRESH-INTERVAL;VALUE=DURATION:PT1H
X-Robots-Tag:noindex
X-PUBLISHED-TTL:PT1H
BEGIN:VTIMEZONE
TZID:UTC
BEGIN:STANDARD
TZOFFSETFROM:+0000
TZOFFSETTO:+0000
TZNAME:UTC
DTSTART:20210101T000000
END:STANDARD
END:VTIMEZONE
BEGIN:VEVENT
DTSTART;TZID=UTC:20230107T140000
DTEND;TZID=UTC:20230107T160000
DTSTAMP:20260422T213622
CREATED:20230107T132815Z
LAST-MODIFIED:20230107T132815Z
UID:7223-1673100000-1673107200@kreativakristaller.se
SUMMARY:Magiska Samtal 14/1
DESCRIPTION:Lördagen den 14 januari är det dags för årets första Magiska Samtal. Ämnet för omgången är INTENTIONER. \nEn vanlig fråga bland nybörjare inom personlig och andlig utveckling är ”Hur sätter man intentioner?” Så det är precis det vi ska diskutera. Hur sätter man intentioner? Varför gör man det och vad gör det egentligen för nytta? \nMagiska Samtal är kostnadsfria tillfällen där likasinnade\, andligt intresserade eller nyfikna träffas i grupp om max 6-8 personer och lite kravlöst pratar om olika ämnen som hör andlighet\, häxkonst\, uppvaknande och uppstigning till. Varje tillfälle kommer att ha ett ämne\, men det hindrar inte att samtalet växlar mellan olika ämnen eller frågor som just då känns viktiga att ta upp. \nSyftet med dessa grupper är gemenskap och utveckling. Nybörjare och nyfikna ska kunna få träffa mer erfarna andliga utövare\, personer med olika inriktning i sitt utövande ska kunna dela med sig och ta del av andras synsätt\, folk ska kunna veta att det finns andra som går igenom eller har gått igenom liknande saker när det gäller uppvaknande och personlig utveckling. \nPå grund av begränsat antal platser ska man anmäla sig i förväg om man planerar att delta. Detta gör man enklast via e-post till kirsi@kreativakristaller.se\, men andra kommunikationssätt går också bra. \nFör personer som är 18 år eller äldre.\nVälkomna på Magiska Samtal hos Kreativa Kristaller!
URL:https://kreativakristaller.se/event/magiska-samtal-14-1/
LOCATION:Kreativa Kristaller\, Skomakarevägen 12\, Kolbäck\, Västmanland\, 73450\, Sverige
CATEGORIES:Evenemang
ATTACH;FMTTYPE=image/png:https://kreativakristaller.se/wp-content/uploads/2022/11/Magic-Book-Logo-Facebook-omslagsbild.png
ORGANIZER;CN="Kreativa Kristaller":MAILTO:kirsi@kreativakristaller.se
END:VEVENT
BEGIN:VEVENT
DTSTART;TZID=UTC:20221126T140000
DTEND;TZID=UTC:20221126T160000
DTSTAMP:20260422T213622
CREATED:20221124T021958Z
LAST-MODIFIED:20221124T021958Z
UID:6807-1669471200-1669478400@kreativakristaller.se
SUMMARY:Magiska Samtal 26/11
DESCRIPTION:Lördagen den 26 november är det dags för ett nytt tillfälle av Magiska Samtal. Den här gången pratar vi om ljusmagi. Vad är ljusmagi? Hur använder man det? Vem kan använda det? \nMagiska Samtal är kostnadsfria tillfällen där likasinnade\, andligt intresserade eller nyfikna träffas i grupp om max 6-8 personer och lite kravlöst pratar om olika ämnen som hör andlighet\, häxkonst\, uppvaknande och uppstigning till. Varje tillfälle kommer att ha ett tema\, men det hindrar inte att samtalet växlar mellan olika ämnen eller frågor som just då känns viktiga att ta upp. \nSyftet med dessa grupper är gemenskap och utveckling. Nybörjare och nyfikna ska kunna få träffa mer erfarna andliga utövare\, personer med olika inriktning i sitt utövande ska kunna dela med sig och ta del av andras synsätt\, folk ska kunna veta att det finns andra som går igenom eller har gått igenom liknande saker när det gäller uppvaknande och personlig utveckling. \nPå grund av begränsat antal platser ska man anmäla sig i förväg om man planerar att delta. Detta gör man enklast via e-post till kirsi@kreativakristaller.se\, men andra kommunikationssätt går också bra. \nFör personer som är 18 år eller äldre. \nVälkomna på Magiska Samtal hos Kreativa Kristaller!
URL:https://kreativakristaller.se/event/magiska-samtal-26-11/
LOCATION:Kreativa Kristaller\, Skomakarevägen 12\, Kolbäck\, Västmanland\, 73450\, Sverige
CATEGORIES:Evenemang
ATTACH;FMTTYPE=image/png:https://kreativakristaller.se/wp-content/uploads/2022/11/Magic-Book-Logo-Facebook-omslagsbild.png
ORGANIZER;CN="Kreativa Kristaller":MAILTO:kirsi@kreativakristaller.se
END:VEVENT
BEGIN:VEVENT
DTSTART;TZID=UTC:20221101T150000
DTEND;TZID=UTC:20221101T170000
DTSTAMP:20260422T213622
CREATED:20220924T145212Z
LAST-MODIFIED:20221013T132710Z
UID:6229-1667314800-1667322000@kreativakristaller.se
SUMMARY:Magiska Samtal 1/11
DESCRIPTION:Tisdagen den 1 november är det dags för ett nytt tillfälle av Magiska Samtal. Den här gången pratar vi om Halloween\, Samhain\, Alla helgons dag(natt?)\, Hels afton etc. \nMagiska Samtal är kostnadsfria tillfällen där likasinnade\, andligt intresserade eller nyfikna träffas i grupp om max 6-8 personer och lite kravlöst pratar om olika ämnen som hör andlighet\, häxkonst\, uppvaknande och uppstigning till. Varje tillfälle kommer att ha ett tema\, men det hindrar inte att samtalet växlar mellan olika ämnen eller frågor som just då känns viktiga att ta upp. \nSyftet med dessa grupper är gemenskap och utveckling. Nybörjare och nyfikna ska kunna få träffa mer erfarna andliga utövare\, personer med olika inriktning i sitt utövande ska kunna dela med sig och ta del av andras synsätt\, folk ska kunna veta att det finns andra som går igenom eller har gått igenom liknande saker när det gäller uppvaknande och personlig utveckling. \nPå grund av begränsat antal platser ska man anmäla sig i förväg om man planerar att delta. Detta gör man enklast via e-post till kirsi@kreativakristaller.se\, men andra kommunikationssätt går också bra. \nFör personer som är 18 år eller äldre. \nVälkomna på Magiska Samtal hos Kreativa Kristaller!
URL:https://kreativakristaller.se/event/magiska-samtal-1-11/
LOCATION:Kreativa Kristaller\, Skomakarevägen 12\, Kolbäck\, Västmanland\, 73450\, Sverige
CATEGORIES:Evenemang
ATTACH;FMTTYPE=image/png:https://kreativakristaller.se/wp-content/uploads/2022/09/Magic-Book-Logo-Facebook-omslagsbild.png
ORGANIZER;CN="Kreativa Kristaller":MAILTO:kirsi@kreativakristaller.se
END:VEVENT
BEGIN:VEVENT
DTSTART;TZID=UTC:20221016T130000
DTEND;TZID=UTC:20221016T150000
DTSTAMP:20260422T213622
CREATED:20221013T130402Z
LAST-MODIFIED:20221013T132640Z
UID:6389-1665925200-1665932400@kreativakristaller.se
SUMMARY:Magiska Samtal 16/10
DESCRIPTION:Magiska Samtal mellan 16-18 söndagen den 16 oktober i Kreativa Kristallers lokaler på Skomakarevägen 12. \nDen här gången pratar vi om guider och änglar\, hur de vägleder oss och hur man hör och tar till sig den vägledningen. \nMagiska Samtal är kostnadsfria tillfällen där likasinnade\, andligt intresserade eller nyfikna träffas i grupp om max 6-8 personer och lite kravlöst pratar om olika ämnen som hör andlighet\, häxkonst\, uppvaknande och uppstigning till. Varje tillfälle kommer att ha ett tema\, men det hindrar inte att samtalet växlar mellan olika ämnen eller frågor som just då känns viktiga att ta upp. \nSyftet med dessa grupper är gemenskap och utveckling. Nybörjare och nyfikna ska kunna få träffa mer erfarna andliga utövare\, personer med olika inriktning i sitt utövande ska kunna dela med sig och ta del av andras synsätt\, folk ska kunna veta att det finns andra som går igenom eller har gått igenom liknande saker när det gäller uppvaknande och personlig utveckling. \nPå grund av begränsat antal platser ska man anmäla sig i förväg om man planerar att delta. Detta gör man enklast via e-post till kirsi@kreativakristaller.se\, men andra kommunikationssätt går också bra. \nFör personer som är 18 år eller äldre.
URL:https://kreativakristaller.se/event/magiska-samtal-16-10/
LOCATION:Kreativa Kristaller\, Skomakarevägen 12\, Kolbäck\, Västmanland\, 73450\, Sverige
CATEGORIES:Evenemang
ATTACH;FMTTYPE=image/png:https://kreativakristaller.se/wp-content/uploads/2022/09/Magic-Book-Logo-Facebook-omslagsbild.png
ORGANIZER;CN="Kreativa Kristaller":MAILTO:kirsi@kreativakristaller.se
END:VEVENT
BEGIN:VEVENT
DTSTART;TZID=UTC:20220925T130000
DTEND;TZID=UTC:20220925T150000
DTSTAMP:20260422T213622
CREATED:20220918T115743Z
LAST-MODIFIED:20220918T115845Z
UID:6200-1664110800-1664118000@kreativakristaller.se
SUMMARY:Magiska Samtal 25/9
DESCRIPTION:Söndagen den 25 september är det dags för ett nytt tillfälle av Magiska Samtal. Den här gången pratar vi om rening\, rensning och jordning – alltså hur man med enkla medel kan förbättra sitt humör\, mående och tillvaro genom att plocka bort energier som skräpar och stör. \nMagiska Samtal är kostnadsfria tillfällen där likasinnade\, andligt intresserade eller nyfikna träffas i grupp om max 6-8 personer och lite kravlöst pratar om olika ämnen som hör andlighet\, häxkonst\, uppvaknande och uppstigning till. Varje tillfälle kommer att ha ett tema\, men det hindrar inte att samtalet växlar mellan olika ämnen eller frågor som just då känns viktiga att ta upp. \nSyftet med dessa grupper är gemenskap och utveckling. Nybörjare och nyfikna ska kunna få träffa mer erfarna andliga utövare\, personer med olika inriktning i sitt utövande ska kunna dela med sig och ta del av andras synsätt\, folk ska kunna veta att det finns andra som går igenom eller har gått igenom liknande saker när det gäller uppvaknande och personlig utveckling. \nPå grund av begränsat antal platser ska man anmäla sig i förväg om man planerar att delta. Detta gör man enklast via e-post till kirsi@kreativakristaller.se\, men andra kommunikationssätt går också bra. \nUngdomar under 18 år måste ha en förälder med sig. \nVälkomna på Magiska Samtal hos Kreativa Kristaller!
URL:https://kreativakristaller.se/event/magiska-samtal-25-9/
LOCATION:Kreativa Kristaller\, Skomakarevägen 12\, Kolbäck\, Västmanland\, 73450\, Sverige
CATEGORIES:Evenemang
ATTACH;FMTTYPE=image/png:https://kreativakristaller.se/wp-content/uploads/2022/09/Magic-Book-Logo-Facebook-omslagsbild.png
ORGANIZER;CN="Kreativa Kristaller":MAILTO:kirsi@kreativakristaller.se
END:VEVENT
BEGIN:VEVENT
DTSTART;TZID=UTC:20220910T130000
DTEND;TZID=UTC:20220910T150000
DTSTAMP:20260422T213622
CREATED:20220905T231042Z
LAST-MODIFIED:20220905T231042Z
UID:6056-1662814800-1662822000@kreativakristaller.se
SUMMARY:Magiska Samtal 10/9
DESCRIPTION:Magiska Samtal är kostnadsfria tillfällen där likasinnade\, andligt intresserade eller nyfikna träffas i grupp om max 6-8 personer och lite kravlöst pratar om olika ämnen som hör andlighet\, häxkonst\, uppvaknande och uppstigning till. Varje tillfälle kommer att ha ett tema\, men det hindrar inte att samtalet växlar mellan olika ämnen eller frågor som just då känns viktiga att ta upp.  \nSyftet med dessa grupper är gemenskap och utveckling. Nybörjare och nyfikna ska kunna få träffa mer erfarna andliga utövare\, personer med olika inriktning i sitt utövande ska kunna dela med sig och ta del av andras synsätt\, folk ska kunna veta att det finns andra som går igenom eller har gått igenom liknande saker när det gäller uppvaknande och personlig utveckling.  \nLördagen den 10 september är det dags för det första tillfället av Magiska Samtal. Det är fullmåne då\, så ett lämpligt ämne att samtala kring är månen och månmagi. \nPå grund av begränsat antal platser ska man anmäla sig i förväg om man planerar att delta. Detta gör man enklast via e-post till kirsi@kreativakristaller.se.  \nUngdomar under 18 år måste ha en förälder med sig.  \nVälkomna på Magiska Samtal hos Kreativa Kristaller!
URL:https://kreativakristaller.se/event/magiska-samtal-10-9/
LOCATION:Västmanland
CATEGORIES:Evenemang
ATTACH;FMTTYPE=image/png:https://kreativakristaller.se/wp-content/uploads/2022/09/Magic-Book-Logo-Facebook-omslagsbild.png
ORGANIZER;CN="Kreativa Kristaller":MAILTO:kirsi@kreativakristaller.se
END:VEVENT
END:VCALENDAR